BEGIN:VCALENDAR
VERSION:2.0
PRODID:icalendar-ruby
CALSCALE:GREGORIAN
METHOD:PUBLISH
BEGIN:VEVENT
DTSTAMP:20260424T010555Z
UID:https://www.mpia.de/events/45521/5277135
DTSTART;VALUE=DATE:20260817
DTEND;VALUE=DATE:20260822
CLASS:PUBLIC
CREATED:20260423T080716Z
DESCRIPTION:We are excited to announce a conference that will bring togethe
 r the world’s top researchers in the field of massive star formation and
  evolution\, with a focus on the latest advances in simulations and observ
 ations. This meeting will provide a unique opportunity to explore the late
 st discoveries and advancements in our understanding of the habitats of ma
 ssive stars across cosmic time.
LAST-MODIFIED:20260423T081214Z
LOCATION:University of Cologne\, Cologne\, Germany
SUMMARY:Cologne-Bonn Symposium on the habitats of massive stars across cosm
 ic time
URL;VALUE=URI:https://www.mpia.de/events/45521/5277135
END:VEVENT
END:VCALENDAR
